BEGIN:VCALENDAR
VERSION:2.0
PRODID:-//Sion Artistic Gym 13 Etoiles - ECPv6.15.15//NONSGML v1.0//EN
CALSCALE:GREGORIAN
METHOD:PUBLISH
X-WR-CALNAME:Sion Artistic Gym 13 Etoiles
X-ORIGINAL-URL:https://ag13.ch
X-WR-CALDESC:Évènements pour Sion Artistic Gym 13 Etoiles
REFRESH-INTERVAL;VALUE=DURATION:PT1H
X-Robots-Tag:noindex
X-PUBLISHED-TTL:PT1H
BEGIN:VTIMEZONE
TZID:Europe/Zurich
BEGIN:DAYLIGHT
TZOFFSETFROM:+0100
TZOFFSETTO:+0200
TZNAME:CEST
DTSTART:20230326T010000
END:DAYLIGHT
BEGIN:STANDARD
TZOFFSETFROM:+0200
TZOFFSETTO:+0100
TZNAME:CET
DTSTART:20231029T010000
END:STANDARD
BEGIN:DAYLIGHT
TZOFFSETFROM:+0100
TZOFFSETTO:+0200
TZNAME:CEST
DTSTART:20240331T010000
END:DAYLIGHT
BEGIN:STANDARD
TZOFFSETFROM:+0200
TZOFFSETTO:+0100
TZNAME:CET
DTSTART:20241027T010000
END:STANDARD
BEGIN:DAYLIGHT
TZOFFSETFROM:+0100
TZOFFSETTO:+0200
TZNAME:CEST
DTSTART:20250330T010000
END:DAYLIGHT
BEGIN:STANDARD
TZOFFSETFROM:+0200
TZOFFSETTO:+0100
TZNAME:CET
DTSTART:20251026T010000
END:STANDARD
END:VTIMEZONE
BEGIN:VEVENT
DTSTART;TZID=Europe/Zurich:20240128T150000
DTEND;TZID=Europe/Zurich:20240128T200000
DTSTAMP:20260426T022349
CREATED:20231015T202107Z
LAST-MODIFIED:20240124T094224Z
UID:3757-1706454000-1706472000@ag13.ch
SUMMARY:Loto
DESCRIPTION:Chers gymnastes\, parents\, membres et amis d’Ag 13*\, \nNous vous invitons chaleureusement à venir soutenir la société de gymnastique et participer à notre loto\n\nle dimanche 28 janvier 2024 entre 15h00 et 20h00 à la salle du Sacré-Coeur à Sion. (sous l’Eglise)\n \nNous remercions les parents des gymnastes (particulièrement des jeunesses A) d’amener leurs enfants soit pour 14h30\, soit pour 16h00 selon ce que leurs moniteurs leur auront transmis. Leur aide sera précieuse pour le bon déroulement du loto.
URL:https://ag13.ch/evenement/loto-2/
LOCATION:Salle du Sacré-Coeur\, Rue du Chanoine-Berchtold 19\, Sion\, Valais\, 1950
ATTACH;FMTTYPE=image/jpeg:https://ag13.ch/wp-content/uploads/2022/07/rssqjpezn6o-e1657826985115.jpg
END:VEVENT
END:VCALENDAR