BEGIN:VCALENDAR
VERSION:2.0
PRODID:-//Sion Artistic Gym 13 Etoiles - ECPv6.15.15//NONSGML v1.0//EN
CALSCALE:GREGORIAN
METHOD:PUBLISH
X-ORIGINAL-URL:https://ag13.ch
X-WR-CALDESC:Évènements pour Sion Artistic Gym 13 Etoiles
REFRESH-INTERVAL;VALUE=DURATION:PT1H
X-Robots-Tag:noindex
X-PUBLISHED-TTL:PT1H
BEGIN:VTIMEZONE
TZID:Europe/Zurich
BEGIN:DAYLIGHT
TZOFFSETFROM:+0100
TZOFFSETTO:+0200
TZNAME:CEST
DTSTART:20220327T010000
END:DAYLIGHT
BEGIN:STANDARD
TZOFFSETFROM:+0200
TZOFFSETTO:+0100
TZNAME:CET
DTSTART:20221030T010000
END:STANDARD
BEGIN:DAYLIGHT
TZOFFSETFROM:+0100
TZOFFSETTO:+0200
TZNAME:CEST
DTSTART:20230326T010000
END:DAYLIGHT
BEGIN:STANDARD
TZOFFSETFROM:+0200
TZOFFSETTO:+0100
TZNAME:CET
DTSTART:20231029T010000
END:STANDARD
BEGIN:DAYLIGHT
TZOFFSETFROM:+0100
TZOFFSETTO:+0200
TZNAME:CEST
DTSTART:20240331T010000
END:DAYLIGHT
BEGIN:STANDARD
TZOFFSETFROM:+0200
TZOFFSETTO:+0100
TZNAME:CET
DTSTART:20241027T010000
END:STANDARD
END:VTIMEZONE
BEGIN:VEVENT
DTSTART;VALUE=DATE:20230506
DTEND;VALUE=DATE:20230508
DTSTAMP:20260423T190833
CREATED:20221126T144329Z
LAST-MODIFIED:20230502T082536Z
UID:3493-1683331200-1683503999@ag13.ch
SUMMARY:Coupe des bains
DESCRIPTION:La 36e édition de la Coupe des Bains est organisée par les Amis-Gymnastes d’Yverdon-les-Bains. Nos Jeunesses A\, ainsi que le groupe des Actifs/Actives représenteront les couleurs d’AG13 étoiles lors de ce concours. \nInfos utiles: \n\nProgramme Actifs/Actives Samedi\, Programme Jeunesses Dimanche\nSite de l’événement
URL:https://ag13.ch/evenement/coupe-des-bains-2/
LOCATION:Centre sportif des Iles\, Av. des Trois-Lacs 1\, Yverdon-les-Bains\, Vaud\, 1400\, Suisse
CATEGORIES:Concours de Groupe
ATTACH;FMTTYPE=image/jpeg:https://ag13.ch/wp-content/uploads/2022/04/Icones_Concours_Groupe.jpg
END:VEVENT
END:VCALENDAR