BEGIN:VCALENDAR
VERSION:2.0
PRODID:-//Sion Artistic Gym 13 Etoiles - ECPv6.15.15//NONSGML v1.0//EN
CALSCALE:GREGORIAN
METHOD:PUBLISH
X-WR-CALNAME:Sion Artistic Gym 13 Etoiles
X-ORIGINAL-URL:https://ag13.ch
X-WR-CALDESC:Évènements pour Sion Artistic Gym 13 Etoiles
REFRESH-INTERVAL;VALUE=DURATION:PT1H
X-Robots-Tag:noindex
X-PUBLISHED-TTL:PT1H
BEGIN:VTIMEZONE
TZID:Europe/Zurich
BEGIN:DAYLIGHT
TZOFFSETFROM:+0100
TZOFFSETTO:+0200
TZNAME:CEST
DTSTART:20220327T010000
END:DAYLIGHT
BEGIN:STANDARD
TZOFFSETFROM:+0200
TZOFFSETTO:+0100
TZNAME:CET
DTSTART:20221030T010000
END:STANDARD
BEGIN:DAYLIGHT
TZOFFSETFROM:+0100
TZOFFSETTO:+0200
TZNAME:CEST
DTSTART:20230326T010000
END:DAYLIGHT
BEGIN:STANDARD
TZOFFSETFROM:+0200
TZOFFSETTO:+0100
TZNAME:CET
DTSTART:20231029T010000
END:STANDARD
BEGIN:DAYLIGHT
TZOFFSETFROM:+0100
TZOFFSETTO:+0200
TZNAME:CEST
DTSTART:20240331T010000
END:DAYLIGHT
BEGIN:STANDARD
TZOFFSETFROM:+0200
TZOFFSETTO:+0100
TZNAME:CET
DTSTART:20241027T010000
END:STANDARD
END:VTIMEZONE
BEGIN:VEVENT
DTSTART;VALUE=DATE:20230603
DTEND;VALUE=DATE:20230605
DTSTAMP:20260420T042938
CREATED:20221126T144648Z
LAST-MODIFIED:20221126T144648Z
UID:3495-1685750400-1685923199@ag13.ch
SUMMARY:Championnat romand de sociétés
DESCRIPTION:
URL:https://ag13.ch/evenement/championnat-romand-de-societes-2/
LOCATION:Neuchâtel\, Neuchâtel\, 2000\, Suisse
CATEGORIES:Concours de Groupe
ATTACH;FMTTYPE=image/jpeg:https://ag13.ch/wp-content/uploads/2022/04/Icones_Concours_Groupe.jpg
END:VEVENT
BEGIN:VEVENT
DTSTART;VALUE=DATE:20230610
DTEND;VALUE=DATE:20230612
DTSTAMP:20260420T042938
CREATED:20221126T143843Z
LAST-MODIFIED:20221202T142634Z
UID:3488-1686355200-1686527999@ag13.ch
SUMMARY:Fête cantonale valaisanne de gymnastique - Jeunesses
DESCRIPTION:
URL:https://ag13.ch/evenement/fete-cantonale-valaisanne-de-gymnastique/
LOCATION:Naters\, Naters\, Valais\, Suisse
CATEGORIES:Concours de Groupe
ATTACH;FMTTYPE=image/jpeg:https://ag13.ch/wp-content/uploads/2022/04/Icones_Concours_Groupe.jpg
END:VEVENT
BEGIN:VEVENT
DTSTART;VALUE=DATE:20230617
DTEND;VALUE=DATE:20230619
DTSTAMP:20260420T042938
CREATED:20221126T144025Z
LAST-MODIFIED:20221202T142550Z
UID:3491-1686960000-1687132799@ag13.ch
SUMMARY:Fête cantonale valaisanne de gymnastique - Actifs/actives
DESCRIPTION:
URL:https://ag13.ch/evenement/fete-cantonale-valaisanne-de-gymnastique-2/
LOCATION:Naters\, Naters\, Valais\, Suisse
CATEGORIES:Concours de Groupe
ATTACH;FMTTYPE=image/jpeg:https://ag13.ch/wp-content/uploads/2022/04/Icones_Concours_Groupe.jpg
END:VEVENT
END:VCALENDAR